BEGIN:VCALENDAR
VERSION:2.0
CALSCALE:GREGORIAN
PRODID:-//MyApp//Calendar 1.0//EN
BEGIN:VEVENT
METHOD:PUBLISH
UID:40140@regionalniportaly.cz
DTSTAMP:20260422T074409Z
DTSTART;VALUE=DATE:20240418
DTEND;VALUE=DATE:20240419
SUMMARY:Sirény na cestách
DESCRIPTION:
LOCATION:Kolín
END:VEVENT
END:VCALENDAR