BEGIN:VCALENDAR
VERSION:2.0
CALSCALE:GREGORIAN
PRODID:-//MyApp//Calendar 1.0//EN
BEGIN:VEVENT
METHOD:PUBLISH
UID:40139@regionalniportaly.cz
DTSTAMP:20260422T072659Z
DTSTART;VALUE=DATE:20240313
DTEND;VALUE=DATE:20240314
SUMMARY:Kryštof - Život je krásný tour 2024
DESCRIPTION:
LOCATION:Kolín
END:VEVENT
END:VCALENDAR