BEGIN:VCALENDAR
VERSION:2.0
CALSCALE:GREGORIAN
PRODID:-//MyApp//Calendar 1.0//EN
BEGIN:VEVENT
METHOD:PUBLISH
UID:38807@regionalniportaly.cz
DTSTAMP:20260422T061100Z
DTSTART;VALUE=DATE:20240407
DTEND;VALUE=DATE:20240408
SUMMARY:Slavnostní velikonoční koncert
DESCRIPTION:Velikonoční koncert s vynikajícími interprety\, kteří nám přinášejí prožitek v podobě nejznámějších melodií v tento neopakovatelný velikonoční&nbsp\;čas.&nbsp\;Program:&nbsp\;J. F. C. Fischer - Ciacona F durP. J. Vejvanovský - Sonáta g mollA. Scarlatti - Gia il sole dal GangeD.&nbsp\;Stachowicz - Veni ConsolatorF. Schubert - Ave MariaC. Franck - Panis AngelicusT. Albinoni - AdagioA. Dvořák – Biblické písně č. 4\, 5\, 10G. Caccini - Ave MariaJ. K. Kuchař - Adagio As dur a Fantasie d mollG. F. Haendel - Alleluja - Amen
LOCATION:Přelouč
END:VEVENT
END:VCALENDAR