BEGIN:VCALENDAR
VERSION:2.0
CALSCALE:GREGORIAN
PRODID:-//MyApp//Calendar 1.0//EN
BEGIN:VEVENT
METHOD:PUBLISH
UID:37608@regionalniportaly.cz
DTSTAMP:20260422T074451Z
DTSTART;VALUE=DATE:20240427
DTEND;VALUE=DATE:20240428
SUMMARY:Salieri\, Manual\, Rimortis
DESCRIPTION:Salieri - křest nového CDZačátek koncertu ve 20:00\, sokolovnu otevíráme v 19:00
LOCATION:Nový Bydžov
END:VEVENT
END:VCALENDAR