BEGIN:VCALENDAR
VERSION:2.0
CALSCALE:GREGORIAN
PRODID:-//MyApp//Calendar 1.0//EN
BEGIN:VEVENT
METHOD:PUBLISH
UID:37352@regionalniportaly.cz
DTSTAMP:20260422T061026Z
DTSTART;VALUE=DATE:20240607
DTEND;VALUE=DATE:20240608
SUMMARY:Divadlo Sklep - Besídka 2024
DESCRIPTION:Slogan " Stále stejná\, vždycky jiná" zcela vystihuje představení Besídka. Sklepáci se každý rok před vánoci sejdou a každý přidá svůj dílek do skládačky\, kterou v následujícím roce budou hrát."Sklep byl z divadel Pražské pětky nejen nejstarší\, ale také nejpočetnější i nejvytrvalejší: bez větších přestávek hraje dodnes. Dobrým příkladem je tradiční sklepovská Besídka\, každoročně uváděné pásmo scének\, skečů\, písní a tanců\, čerpající z nasazení interpretů a jejich svérázného smyslu pro humor. Jistý posun během let\, po která se Besídka hraje\, lze spatřit v jazykové zásobě\, tvůrci představení si už nevystačí pouze s češtinou\, pro své záměry využívají celou škálu jazyků\, zkomolenin a neologismů."&nbsp\;&nbsp\;
LOCATION:Přelouč
END:VEVENT
END:VCALENDAR