BEGIN:VCALENDAR
VERSION:2.0
CALSCALE:GREGORIAN
PRODID:-//MyApp//Calendar 1.0//EN
BEGIN:VEVENT
METHOD:PUBLISH
UID:37346@regionalniportaly.cz
DTSTAMP:20260422T061115Z
DTSTART;VALUE=DATE:20240510
DTEND;VALUE=DATE:20240511
SUMMARY:Vzpomínkový koncert na písně Karla Gotta
DESCRIPTION:Jedinečný koncert na počest hudby Karla Gotta v Kolíně.Koncertní pořad ve kterém se Vám představí zpěvák Nicolas Put za doprovodu orchestru Radima Linharta. Pořad plný písniček a povídání o Karlu Gottovi.&nbsp\;Zazpívá Nikolas Put\, nadaný mladý tenor a talent\, který se blýsknul na slavnostním Galakoncertu k významnému jubileu 105. výročí Československé republiky. Vystoupí v doprovodu geniálního klavíristy Radima Linharta a jeho kapely.Hlavním hostem koncertu je "fotograf hvězd" František Jirásek\, blízký přítel a dvorní fotograf Karla Gotta\, který strávil po jeho boku bezmála 40 let. Díky jeho fotografiím a zajímavému vyprávění budete moci nahlédnou do hudebního zákulisí a zavzpomínat na největší osobnost české populární hudby.&nbsp\;&nbsp\;
LOCATION:Kolín
END:VEVENT
END:VCALENDAR