BEGIN:VCALENDAR
VERSION:2.0
CALSCALE:GREGORIAN
PRODID:-//MyApp//Calendar 1.0//EN
BEGIN:VEVENT
METHOD:PUBLISH
UID:36658@regionalniportaly.cz
DTSTAMP:20260422T080957Z
DTSTART;VALUE=DATE:20240727
DTEND;VALUE=DATE:20240728
SUMMARY:Den Princezen - Zámek Karlova Koruna
DESCRIPTION:VÍTEJTE V&nbsp\;POHÁDKOVÉM SVĚTĚ PLNÝ KOUZEL\, HER A FANTAZIEVstupte s námi do&nbsp\;říše pohádek\, kde se&nbsp\;splní sny malým i velkým. Nejkrásnější české zámky hostí&nbsp\;Pohádkový svět plný kouzel\, her a&nbsp\;fantazie. Den princezen a rytířů je věnovaný&nbsp\;českým pohádkám\, princeznám\, rytířským soubojům. Program provede Sabina Laurinová společně&nbsp\;princeznami a rytíři.&nbsp\;Do světa fantazie vás vtáhnou&nbsp\;zajíčci&nbsp\;Hopy Hop!\, panenky&nbsp\;Raibow High / Shadow High\, prasátka Pigy &amp\; Lily\,&nbsp\;poníci&nbsp\;My Little Pony\, nejen v Magic zóně pak&nbsp\;TRANSFORMERS&nbsp\;a mnoho dalších. Program budeme postupně upřesňovat a doplňovat\, určitě se máte na co těšit.&nbsp\;&nbsp\;Změna programu vyhrazena.
LOCATION:Chlumec nad Cidlinou
END:VEVENT
END:VCALENDAR