BEGIN:VCALENDAR
VERSION:2.0
CALSCALE:GREGORIAN
PRODID:-//MyApp//Calendar 1.0//EN
BEGIN:VEVENT
METHOD:PUBLISH
UID:36170@regionalniportaly.cz
DTSTAMP:20260422T072542Z
DTSTART;VALUE=DATE:20231231
DTEND;VALUE=DATE:20240101
SUMMARY:Silvestrovský ples
DESCRIPTION:Na letošním silvestrovském plese nás bude provázet skvělý stand-up komik Karel Hynek\, který vám zaručeně rozveselí večer svým jedinečným smyslem pro humor. Karel Hynek patří mezi nejtalentovanější české komiky a jeho vystoupení jsou vždy plná smíchu a legrace.Kromě stand-up vystoupení Karela Hynka\, který bude celý večer i moderovat\, se můžete těšit na hudební skupinu Teplá buchta\, která pro vás zahraje ty nejlepší známé hity s kvalitní reprodukcí skladeb.Na plese rovněž nebude chybět ani oblíbená tombola\, ve které si budete moci zkusit štěstí a vyhrát množství hodnotných cen.Těšíme se na vás.
LOCATION:Přelouč
END:VEVENT
END:VCALENDAR