BEGIN:VCALENDAR
VERSION:2.0
CALSCALE:GREGORIAN
PRODID:-//MyApp//Calendar 1.0//EN
BEGIN:VEVENT
METHOD:PUBLISH
UID:35771@regionalniportaly.cz
DTSTAMP:20260422T072756Z
DTSTART;VALUE=DATE:20231102
DTEND;VALUE=DATE:20231103
SUMMARY:W. A. MOZART - REQUIEM
DESCRIPTION:W. A. Mozart - REQUIEMCANTORES CANTANTa hostéPetr Hostinský - varhanyJakub Hrubý - sbormistr&nbsp\;Program:W. A. Mozart - Requiem d moll
LOCATION:Kolín
END:VEVENT
END:VCALENDAR