BEGIN:VCALENDAR
VERSION:2.0
CALSCALE:GREGORIAN
PRODID:-//MyApp//Calendar 1.0//EN
BEGIN:VEVENT
METHOD:PUBLISH
UID:35730@regionalniportaly.cz
DTSTAMP:20260422T072921Z
DTSTART;VALUE=DATE:20240117
DTEND;VALUE=DATE:20240118
SUMMARY:Dnes večer ovuluji | Kolín
DESCRIPTION:Iva Pazderková v příběhu ženy\, která chtěla dítěZpověď Dnes večer ovuluji aneb příběh ženy\, která chtěla dítě\, je líčení chvílemi neuvěřitelně komických situací i záchvatů zoufalství a beznaděje mladé ženy. Iva Pazderková v roli Clare\, svobodné nezávislé moderní ženy nás vtáhne do děje matky aspirantky.Návštěvy gynekologů\, čekárny specialistů\, svérázné rady kamarádek\, euforie z prvních pokusů a zklamání z prvních neúspěchů. I přes četné chvíle posměchu\, beznaděje a zklamání nachází sílu vytrvat. Clare to dítě prostě chce!&nbsp\;CARLOTTACLERICI: DNES VEČER OVULUJIPřeklad&nbsp\;Jaromír JanečekRežie&nbsp\;Pavel ŠimákKostýmy&nbsp\;Iva PazderkováHraje&nbsp\;Iva Pazderková&nbsp\;
LOCATION:Kolín
END:VEVENT
END:VCALENDAR