BEGIN:VCALENDAR
VERSION:2.0
CALSCALE:GREGORIAN
PRODID:-//MyApp//Calendar 1.0//EN
BEGIN:VEVENT
METHOD:PUBLISH
UID:35376@regionalniportaly.cz
DTSTAMP:20260422T055338Z
DTSTART;VALUE=DATE:20231011
DTEND;VALUE=DATE:20231012
SUMMARY:Sparta Kolín - Bohemians Praha 1905
DESCRIPTION:Los třetího kola MOL Cupu přivede do kolínských Borků slavnou pražskou Bohemians!Dorazte na stadion ve středu 11. října\, zápas začne v 15:30 hodin.
LOCATION:Kolín
END:VEVENT
END:VCALENDAR