BEGIN:VCALENDAR
VERSION:2.0
CALSCALE:GREGORIAN
PRODID:-//MyApp//Calendar 1.0//EN
BEGIN:VEVENT
METHOD:PUBLISH
UID:35315@regionalniportaly.cz
DTSTAMP:20260422T072813Z
DTSTART;VALUE=DATE:20231123
DTEND;VALUE=DATE:20231124
SUMMARY:Muzikálový koncert Nový Bydžov
DESCRIPTION:Nádherné melodie z muzikálů DRACULA | Monte Cristo | BÍDNÍCI | Jekyll &amp\; Hyde | BARON PRÁŠIL | Romeo a Julie na leděs brilantními texty Zdeňka Borovce\, Jarka Nohavici\, Adama Nováka i Petra Markova zazní v podání našeho koncertního tria:Martin RADA |&nbsp\;Klára JELÍNKOVÁ&nbsp\;|&nbsp\;Jiří PEKv sále JIRÁSKOVA DIVADLA Nový BydžovPředprodej zajišťuje i Jiráskovo Divadlo Nový Bydžov\, tel. 773 054 890 (pokladna)Těšíme se na KAŽDÉHO Z VÁS&nbsp\;
LOCATION:Nový Bydžov
END:VEVENT
END:VCALENDAR