BEGIN:VCALENDAR
VERSION:2.0
CALSCALE:GREGORIAN
PRODID:-//MyApp//Calendar 1.0//EN
BEGIN:VEVENT
METHOD:PUBLISH
UID:34691@regionalniportaly.cz
DTSTAMP:20260422T035324Z
DTSTART;VALUE=DATE:20230909
DTEND;VALUE=DATE:20230910
SUMMARY:Black Hornet Fest
DESCRIPTION:První&nbsp\;ročník&nbsp\;nově&nbsp\;vzniklého&nbsp\;festivalu&nbsp\;Black&nbsp\;Hornet&nbsp\;Fest.&nbsp\;Který&nbsp\;vznikl&nbsp\;pod&nbsp\;hlavičkou&nbsp\;Black&nbsp\;Hornet&nbsp\;Production&nbsp\;se&nbsp\;uskuteční&nbsp\;ve&nbsp\;známém&nbsp\;místě&nbsp\;Letní&nbsp\;Parket Újezd&nbsp\;u&nbsp\;Přelouče.FB&nbsp\;událost:&nbsp\;https://fb.me/e/3JlJsXFXpJe&nbsp\;opravdu&nbsp\;se&nbsp\;na&nbsp\;co&nbsp\;těšit !!!Vstupenky&nbsp\;za&nbsp\;450\,-&nbsp\;Kč&nbsp\;pouze&nbsp\;do&nbsp\;31.8&nbsp\;2023&nbsp\;nebo&nbsp\;do&nbsp\;vyprodání&nbsp\;zásob !!!&nbsp\;Více&nbsp\;informacíDo&nbsp\;programu&nbsp\;je&nbsp\;zahrnuto&nbsp\;vystoupení&nbsp\;skupiny&nbsp\;Démoni&nbsp\;CZ&nbsp\;z&nbsp\;Orlové\,&nbsp\;které&nbsp\;vám&nbsp\;naservíruje&nbsp\;pořádnou&nbsp\;pekelnou&nbsp\;show!!!https://www.demoniorlova.cz/Parkování&nbsp\;a&nbsp\;stanování&nbsp\;ZDARMA.Na&nbsp\;čepu&nbsp\;budou&nbsp\;piva&nbsp\;třech&nbsp\;pivovarů\,&nbsp\;tyčinky&nbsp\;od&nbsp\;firmy&nbsp\;Havlík\,&nbsp\;skvělou&nbsp\;kávu&nbsp\;z&nbsp\;otrokovické&nbsp\;pražírny.&nbsp\;Samozřejmě&nbsp\;nebudou&nbsp\;chybětdalší&nbsp\;festivalové&nbsp\;dobroty.Akce&nbsp\;se&nbsp\;koná&nbsp\;za&nbsp\;každého&nbsp\;počasí\,&nbsp\;jelikož&nbsp\;areál&nbsp\;je&nbsp\;zastřešen!!!&nbsp\;LINE-UP:13:00&nbsp\;OPEN14:00&nbsp\;Day&nbsp\;Beforehttps://bandzone.cz/daybefore15:00&nbsp\;STELLVRIShttps://bandzone.cz/stellaris16:30&nbsp\;Doomashttps://doomas.com/18:00&nbsp\;Purnamahttp://www.purnama.cz/cz/kapela.html19:30&nbsp\;Lunatic&nbsp\;Godshttps://www.lunaticgods.info/menu21:00&nbsp\;Hypnoshttps://www.facebook.com/HypnosCZ/22:30&nbsp\;Tortharryhttps://www.tortharry.com/&nbsp\;&nbsp\;&nbsp\;
LOCATION:Újezd u Přelouče
END:VEVENT
END:VCALENDAR