BEGIN:VCALENDAR
VERSION:2.0
CALSCALE:GREGORIAN
PRODID:-//MyApp//Calendar 1.0//EN
BEGIN:VEVENT
METHOD:PUBLISH
UID:32981@regionalniportaly.cz
DTSTAMP:20260422T020620Z
DTSTART;VALUE=DATE:20230526
DTEND;VALUE=DATE:20230527
SUMMARY:Drum Society I UNDERCLOCK I X.MORPH I Kolín
DESCRIPTION:DRUM SOCIETY TIMEWARP 1.0Kde jinde odstartovat tuto SESSION než UNDERCLOCK.To znamená v Baru Pod Hodinama v Kolíně!Speciální efekty i atmosféra. Zcela nový projekt!
LOCATION:Kolín
END:VEVENT
END:VCALENDAR