BEGIN:VCALENDAR
VERSION:2.0
CALSCALE:GREGORIAN
PRODID:-//MyApp//Calendar 1.0//EN
BEGIN:VEVENT
METHOD:PUBLISH
UID:32655@regionalniportaly.cz
DTSTAMP:20260422T074521Z
DTSTART;VALUE=DATE:20230816
DTEND;VALUE=DATE:20230817
SUMMARY:Česká Rockharmonie - Dvořákův festival
DESCRIPTION:Poznejte Dvořákův festival na lodi Florentina a užijte si nezapomenutelný večer s prvotřídními umělci přímo na palubě!&nbsp\;Účinkující:&nbsp\;ČESKÁ&nbsp\;ROCKHARMONIE - komorní&nbsp\;soubor České&nbsp\;filharmonieMARCEL KOZÁNEK – 1. housleLIBOR VILÍMEC – 2. houslePAVEL HOŘEJŠÍ – violaPAVEL LUDVÍK – violoncelloJIŘÍ VOPÁLKA – kontrabasTOBIÁŠ KOZÁNEK – bicí&nbsp\;Pořadatel:&nbsp\;Dvořákův festival&nbsp\;Program:&nbsp\;J. Lennon – A Hard Day‘s NightJ. S. Bach – Preludium in EL. van Beethoven – Rock over BeethovenA. Dvořák – Swing LargoB. Bernie / M. Pinkard – Sweet Georgia BrownQueen – Bohemian RhapsodyDeep Purple – Smoke on the WaterWhitesnake – Soldier of FortuneAC/DC – Back in BlackEurope – The Final CountdownP. McCartney – Eleanor RigbyJ. Schelinger – Holubí důmM. Kozánek – Travička jazzováIron Maiden – The TrooperMetallica – Master of PuppetsJudas Priest – Breaking the Law&nbsp\;Důležité informace k nalodění:Od 17\,30 možnost večeře v&nbsp\;restauraci&nbsp\;na lodi.Rezervace nutná. Tel.č.: +420&nbsp\;601&nbsp\;001&nbsp\;592
LOCATION:Kolín
END:VEVENT
END:VCALENDAR